BEGIN:VCALENDAR
VERSION:2.0
PRODID:-//Seibukan Okinawa Goju-Ryu Karate-Do - ECPv5.8.1//NONSGML v1.0//EN
CALSCALE:GREGORIAN
METHOD:PUBLISH
X-WR-CALNAME:Seibukan Okinawa Goju-Ryu Karate-Do
X-ORIGINAL-URL:https://seibukan.alternativagrafica.mx
X-WR-CALDESC:Eventos para Seibukan Okinawa Goju-Ryu Karate-Do
BEGIN:VTIMEZONE
TZID:America/Chicago
BEGIN:DAYLIGHT
TZOFFSETFROM:-0600
TZOFFSETTO:-0500
TZNAME:CDT
DTSTART:20210314T080000
END:DAYLIGHT
BEGIN:STANDARD
TZOFFSETFROM:-0500
TZOFFSETTO:-0600
TZNAME:CST
DTSTART:20211107T070000
END:STANDARD
END:VTIMEZONE
BEGIN:VEVENT
DTSTART;TZID=America/Chicago:20211204T170000
DTEND;TZID=America/Chicago:20211204T180000
DTSTAMP:20260422T142354
CREATED:20211202T004605Z
LAST-MODIFIED:20211202T005111Z
UID:704-1638637200-1638640800@seibukan.alternativagrafica.mx
SUMMARY:Yudansha Koshuaki & Shinsa 2021
DESCRIPTION:
URL:https://seibukan.alternativagrafica.mx/event/yudansha-koshuaki-shinsa-2021/
LOCATION:Honbu Dojo Morelia\, Lago de Chapala 172-4\, Morelia\, Michoacán\, 58020\, Mexico
CATEGORIES:Seminario
ATTACH;FMTTYPE=image/png:https://seibukan.alternativagrafica.mx/wp-content/uploads/2021/12/Kosho-shin.png
END:VEVENT
END:VCALENDAR